BEGIN:VCALENDAR
VERSION:2.0
PRODID:City of Fort Lauderdale, FL Calendar Creator
METHOD:PUBLISH
BEGIN:VEVENT
DTSTAMP:20260416T151238
DTSTART:20260430T180000
DTEND:20260430T190000
SUMMARY:Public Meeting: Sunrise Lane Streetscape Project
DESCRIPTION:Project Overview: <br>The project includes planned improvements to Sunrise Lane and NE 9 Street, such as lighting and landscape enhancements, sidewalk widening, and on-street parking modifications. The improvements are intended to enhance appearance, accessibility and overall pedestrian experience in the area.
X-ALT-DESC;FMTTYPE=text/html:Project Overview: <br>The project includes planned improvements to Sunrise Lane and NE 9 Street, such as lighting and landscape enhancements, sidewalk widening, and on-street parking modifications. The improvements are intended to enhance appearance, accessibility and overall pedestrian experience in the area.
LOCATION:Beach Community Center\, 3351 NE 33rd Avenue\, (A1A at Oakland Park) Fort Lauderdale\, Florida 33308
CLASS:PUBLIC
END:VEVENT
END:VCALENDAR
