BEGIN:VCALENDAR
VERSION:2.0
PRODID:City of Fort Lauderdale, FL Calendar Creator
METHOD:PUBLISH
BEGIN:VEVENT
DTSTAMP:20260416T144354
DTSTART:20260427T190000
DTEND:20260427T200000
SUMMARY:Public Meeting: SW/SE 17th Street Improvement Project
DESCRIPTION:This project will redesign SW/SE 17th Street to improve safety for pedestrians, cyclists, and drivers. Improvements include safer crossings, raised intersection, new bike lanes, lighting and landscaping along the corridor from SW 9th Avenue to Federal Highway (U.S. 1)
X-ALT-DESC;FMTTYPE=text/html:This project will redesign SW/SE 17th Street to improve safety for pedestrians, cyclists, and drivers. Improvements include safer crossings, raised intersection, new bike lanes, lighting and landscaping along the corridor from SW 9th Avenue to Federal Highway (U.S. 1)
LOCATION:Croissant Park\, 245 West Park Drive Fort Lauderdale\, Florida 33315
CLASS:PUBLIC
END:VEVENT
END:VCALENDAR
