BEGIN:VCALENDAR
VERSION:2.0
PRODID:City of Fort Lauderdale, FL Calendar Creator
METHOD:PUBLISH
BEGIN:VEVENT
DTSTAMP:20260413T084725
DTSTART:20260414T140000
DTEND:20260414T235900
SUMMARY:Evaluation Committee Meeting for Event No. 536
DESCRIPTION:<a href="https://fortlauderdale-redesign.prod.govaccess.org/home/showpublisheddocument/95829/639116666219070000" target="_blank" rel="noopener">Evaluation Committee Meeting for Event No. 536</a>
X-ALT-DESC;FMTTYPE=text/html:<a href="https://fortlauderdale-redesign.prod.govaccess.org/home/showpublisheddocument/95829/639116666219070000" target="_blank" rel="noopener">Evaluation Committee Meeting for Event No. 536</a>
LOCATION:1st Floor Conference Room\, 101 NE 3rd Ave Fort Lauderdale\, Florida 33301
CLASS:PUBLIC
END:VEVENT
END:VCALENDAR
