BEGIN:VCALENDAR
VERSION:2.0
PRODID:City of Fort Lauderdale, FL Calendar Creator
METHOD:PUBLISH
BEGIN:VEVENT
DTSTAMP:20260410T135716
DTSTART:20260426T060000
DTEND:20260426T113000
SUMMARY:Move with MADD & MADD Dash Fort Lauderdale 5K
DESCRIPTION:For additional information, please visit our&nbsp;<a href="https://experience.arcgis.com/experience/9b51cd6041014e17b343961ef58a3139" target="_blank" rel="noopener">Events Explorer&nbsp;</a>&amp;&nbsp;<a href="https://www.arcgis.com/apps/dashboards/f65a9cd5690e4f2f8372727112870856" target="_blank" rel="noopener">Impact Dashboard</a>.
X-ALT-DESC;FMTTYPE=text/html:For additional information, please visit our&nbsp;<a href="https://experience.arcgis.com/experience/9b51cd6041014e17b343961ef58a3139" target="_blank" rel="noopener">Events Explorer&nbsp;</a>&amp;&nbsp;<a href="https://www.arcgis.com/apps/dashboards/f65a9cd5690e4f2f8372727112870856" target="_blank" rel="noopener">Impact Dashboard</a>.
LOCATION:At the intersection of SE 1st Avenue & Las Olas Blvd.\, Fort Lauderdale\, Florida 
CLASS:PUBLIC
END:VEVENT
END:VCALENDAR
