BEGIN:VCALENDAR
VERSION:2.0
PRODID:City of Fort Lauderdale, FL Calendar Creator
METHOD:PUBLISH
BEGIN:VEVENT
DTSTAMP:20260403T102237
DTSTART:20260408T170000
DTEND:20260408T193000
SUMMARY:Civil Service Board Meeting - CANCELED
DESCRIPTION:
X-ALT-DESC;FMTTYPE=text/html:
LOCATION:11th Floor Conference Room\, 101 NE 3 Avenue Fort Lauderdale\, Florida 33301
CLASS:PUBLIC
END:VEVENT
END:VCALENDAR
