BEGIN:VCALENDAR
VERSION:2.0
PRODID:City of Fort Lauderdale, FL Calendar Creator
METHOD:PUBLISH
BEGIN:VEVENT
DTSTAMP:20260324T081748
DTSTART:20260420T130000
DTEND:20260420T150000
SUMMARY:Public Art and Placemaking Advisory Board Meeting
DESCRIPTION:
X-ALT-DESC;FMTTYPE=text/html:
LOCATION:11th Floor Conference Room\, 101 NE 3 Avenue Fort Lauderdale\, Florida 33301
CLASS:PUBLIC
END:VEVENT
END:VCALENDAR
