BEGIN:VCALENDAR
VERSION:2.0
PRODID:City of Fort Lauderdale, FL Calendar Creator
METHOD:PUBLISH
BEGIN:VEVENT
DTSTAMP:20260303T182721
DTSTART:20260405T130000
DTEND:20260405T200000
SUMMARY:Lauderdale Tropical Bear Week Beach Party
DESCRIPTION:For additional event information, please visit the&nbsp;<a href="https://experience.arcgis.com/experience/9b51cd6041014e17b343961ef58a3139" target="_blank" rel="noopener">Outdoor Events Calendar</a>&nbsp;and&nbsp;<a href="https://www.arcgis.com/apps/dashboards/f65a9cd5690e4f2f8372727112870856" target="_blank" rel="noopener">Impact Dashboard.</a>
X-ALT-DESC;FMTTYPE=text/html:For additional event information, please visit the&nbsp;<a href="https://experience.arcgis.com/experience/9b51cd6041014e17b343961ef58a3139" target="_blank" rel="noopener">Outdoor Events Calendar</a>&nbsp;and&nbsp;<a href="https://www.arcgis.com/apps/dashboards/f65a9cd5690e4f2f8372727112870856" target="_blank" rel="noopener">Impact Dashboard.</a>
LOCATION:Fort Lauderdale Beach - directly across from Birch State Park\, Fort Lauderdale\, Florida 33305
CLASS:PUBLIC
END:VEVENT
END:VCALENDAR
