BEGIN:VCALENDAR
VERSION:2.0
PRODID:City of Fort Lauderdale, FL Calendar Creator
METHOD:PUBLISH
BEGIN:VEVENT
DTSTAMP:20260225T122018
DTSTART:20260401T103000
DTEND:20260401T170000
SUMMARY:The City of Fort Lauderdale and the International Association of Firefighters Bargaining Session
DESCRIPTION:
X-ALT-DESC;FMTTYPE=text/html:
LOCATION:11th Floor Conference Room\, 101 NE 3 Avenue Fort Lauderdale\, Florida 33301
CLASS:PUBLIC
END:VEVENT
END:VCALENDAR
