BEGIN:VCALENDAR
VERSION:2.0
PRODID:City of Fort Lauderdale, FL Calendar Creator
METHOD:PUBLISH
BEGIN:VEVENT
DTSTAMP:20260406T123124
DTSTART:20260416T180000
DTEND:20260416T200000
SUMMARY:Education Advisory Board Meeting
DESCRIPTION:
X-ALT-DESC;FMTTYPE=text/html:
LOCATION:Tower 101\, 101 NE 3rd Ave\, 11th Floor Conference Room Fort Lauderdale\, Florida 33309
CLASS:PUBLIC
END:VEVENT
END:VCALENDAR
